BEGIN:VCALENDAR
VERSION:2.0
PRODID:-//Des familles et des liens - ECPv6.15.20//NONSGML v1.0//EN
CALSCALE:GREGORIAN
METHOD:PUBLISH
X-WR-CALNAME:Des familles et des liens
X-ORIGINAL-URL:https://desfamillesetdesliens.fr
X-WR-CALDESC:Évènements pour Des familles et des liens
REFRESH-INTERVAL;VALUE=DURATION:PT1H
X-Robots-Tag:noindex
X-PUBLISHED-TTL:PT1H
BEGIN:VTIMEZONE
TZID:Europe/Paris
BEGIN:DAYLIGHT
TZOFFSETFROM:+0100
TZOFFSETTO:+0200
TZNAME:CEST
DTSTART:20220327T010000
END:DAYLIGHT
BEGIN:STANDARD
TZOFFSETFROM:+0200
TZOFFSETTO:+0100
TZNAME:CET
DTSTART:20221030T010000
END:STANDARD
BEGIN:DAYLIGHT
TZOFFSETFROM:+0100
TZOFFSETTO:+0200
TZNAME:CEST
DTSTART:20230326T010000
END:DAYLIGHT
BEGIN:STANDARD
TZOFFSETFROM:+0200
TZOFFSETTO:+0100
TZNAME:CET
DTSTART:20231029T010000
END:STANDARD
BEGIN:DAYLIGHT
TZOFFSETFROM:+0100
TZOFFSETTO:+0200
TZNAME:CEST
DTSTART:20240331T010000
END:DAYLIGHT
BEGIN:STANDARD
TZOFFSETFROM:+0200
TZOFFSETTO:+0100
TZNAME:CET
DTSTART:20241027T010000
END:STANDARD
END:VTIMEZONE
BEGIN:VEVENT
DTSTART;TZID=Europe/Paris:20230913T100000
DTEND;TZID=Europe/Paris:20230913T113000
DTSTAMP:20260423T092153
CREATED:20230724T113405Z
LAST-MODIFIED:20230724T113405Z
UID:2668-1694599200-1694604600@desfamillesetdesliens.fr
SUMMARY:Cours de lecture pour les enfants #6
DESCRIPTION:Un cours de lecture qui encourage les enfants à découvrir le monde des livres. Chaque séance comprend des histoires captivantes\, des activités de lecture interactives et des discussions pour enrichir le vocabulaire et la compréhension de l’enfant
URL:https://desfamillesetdesliens.fr/event/cours-de-lecture-pour-les-enfants-6/
LOCATION:Des Familles et des Liens\, 116 rue des Rabats\, Antony\, Hauts de Seine\, 92160\, France
CATEGORIES:Eveil enfants,Test
END:VEVENT
BEGIN:VEVENT
DTSTART;TZID=Europe/Paris:20230915T173000
DTEND;TZID=Europe/Paris:20230915T203000
DTSTAMP:20260423T092153
CREATED:20230724T112827Z
LAST-MODIFIED:20230724T112827Z
UID:2664-1694799000-1694809800@desfamillesetdesliens.fr
SUMMARY:Atelier de musique pour enfants #4
DESCRIPTION:Un atelier interactif destiné à éveiller l’intérêt des enfants pour la musique. Nos séances encouragent l’expression individuelle à travers la chanson\, la danse et les instruments de musique. C’est un espace pour explorer\, apprendre et surtout\, s’amuser.
URL:https://desfamillesetdesliens.fr/event/atelier-de-musique-pour-enfants-4/
LOCATION:Des Familles et des Liens\, 116 rue des Rabats\, Antony\, Hauts de Seine\, 92160\, France
CATEGORIES:Eveil enfants,Test
END:VEVENT
BEGIN:VEVENT
DTSTART;TZID=Europe/Paris:20230921T080000
DTEND;TZID=Europe/Paris:20230921T170000
DTSTAMP:20260423T092153
CREATED:20230724T113745Z
LAST-MODIFIED:20230724T113745Z
UID:2670-1695283200-1695315600@desfamillesetdesliens.fr
SUMMARY:Atelier de communication parent-ado #7
DESCRIPTION:Naviguer dans l’adolescence peut être difficile pour les parents et les adolescents eux-mêmes. Cet atelier vise à améliorer la communication entre les parents et les adolescents et à renforcer leur relation. Les parents découvriront des techniques pour mieux comprendre leurs adolescents et les aider à traverser cette période de leur vie.
URL:https://desfamillesetdesliens.fr/event/atelier-de-communication-parent-ado-7/
LOCATION:Hauts de Seine
CATEGORIES:Parents Ados,Test
END:VEVENT
BEGIN:VEVENT
DTSTART;TZID=Europe/Paris:20230926T093000
DTEND;TZID=Europe/Paris:20230926T103000
DTSTAMP:20260423T092153
CREATED:20230724T114049Z
LAST-MODIFIED:20230724T114049Z
UID:2675-1695720600-1695724200@desfamillesetdesliens.fr
SUMMARY:Atelier de résolution de conflits familiaux #9
DESCRIPTION:
URL:https://desfamillesetdesliens.fr/event/atelier-de-resolution-de-conflits-familiaux-9/
LOCATION:Des Familles et des Liens\, 116 rue des Rabats\, Antony\, Hauts de Seine\, 92160\, France
CATEGORIES:Ressources pour les parents, les couples, temps pour soi.,Test
END:VEVENT
BEGIN:VEVENT
DTSTART;TZID=Europe/Paris:20230926T183000
DTEND;TZID=Europe/Paris:20230926T200000
DTSTAMP:20260423T092153
CREATED:20230724T114647Z
LAST-MODIFIED:20230724T114647Z
UID:2677-1695753000-1695758400@desfamillesetdesliens.fr
SUMMARY:Gérer la perte en famille #10
DESCRIPTION:La perte d’un proche peut être une épreuve difficile pour une famille. Cet atelier offre un espace de soutien et de partage pour les familles en deuil\, et offre des conseils pratiques pour gérer le deuil.
URL:https://desfamillesetdesliens.fr/event/gerer-la-perte-en-famille-10/
LOCATION:Des Familles et des Liens\, 116 rue des Rabats\, Antony\, Hauts de Seine\, 92160\, France
CATEGORIES:Ressources pour les parents, les couples, temps pour soi.,Test
END:VEVENT
BEGIN:VEVENT
DTSTART;TZID=Europe/Paris:20230928T090000
DTEND;TZID=Europe/Paris:20230928T120000
DTSTAMP:20260423T092153
CREATED:20230724T113854Z
LAST-MODIFIED:20230724T113854Z
UID:2673-1695891600-1695902400@desfamillesetdesliens.fr
SUMMARY:Gérer le stress de l'adolescence : une session pour les parents #8
DESCRIPTION:L’adolescence est une période de changements rapides et parfois stressants. Cet atelier fournit des outils aux parents pour aider leurs adolescents à gérer le stress et les défis de l’adolescence. Les parents découvriront des techniques de relaxation\, des stratégies de gestion du stress et des conseils pour soutenir le bien-être de leurs adolescents.
URL:https://desfamillesetdesliens.fr/event/gerer-le-stress-de-ladolescence-une-session-pour-les-parents-8/
LOCATION:Des Familles et des Liens\, 116 rue des Rabats\, Antony\, Hauts de Seine\, 92160\, France
CATEGORIES:Parents Ados,Test
END:VEVENT
END:VCALENDAR