BEGIN:VCALENDAR
VERSION:2.0
PRODID:-//Des familles et des liens - ECPv6.15.20//NONSGML v1.0//EN
CALSCALE:GREGORIAN
METHOD:PUBLISH
X-ORIGINAL-URL:https://desfamillesetdesliens.fr
X-WR-CALDESC:Évènements pour Des familles et des liens
REFRESH-INTERVAL;VALUE=DURATION:PT1H
X-Robots-Tag:noindex
X-PUBLISHED-TTL:PT1H
BEGIN:VTIMEZONE
TZID:Europe/Paris
BEGIN:DAYLIGHT
TZOFFSETFROM:+0100
TZOFFSETTO:+0200
TZNAME:CEST
DTSTART:20220327T010000
END:DAYLIGHT
BEGIN:STANDARD
TZOFFSETFROM:+0200
TZOFFSETTO:+0100
TZNAME:CET
DTSTART:20221030T010000
END:STANDARD
BEGIN:DAYLIGHT
TZOFFSETFROM:+0100
TZOFFSETTO:+0200
TZNAME:CEST
DTSTART:20230326T010000
END:DAYLIGHT
BEGIN:STANDARD
TZOFFSETFROM:+0200
TZOFFSETTO:+0100
TZNAME:CET
DTSTART:20231029T010000
END:STANDARD
BEGIN:DAYLIGHT
TZOFFSETFROM:+0100
TZOFFSETTO:+0200
TZNAME:CEST
DTSTART:20240331T010000
END:DAYLIGHT
BEGIN:STANDARD
TZOFFSETFROM:+0200
TZOFFSETTO:+0100
TZNAME:CET
DTSTART:20241027T010000
END:STANDARD
END:VTIMEZONE
BEGIN:VEVENT
DTSTART;TZID=Europe/Paris:20230724T100000
DTEND;TZID=Europe/Paris:20230724T120000
DTSTAMP:20260423T134642
CREATED:20230724T104523Z
LAST-MODIFIED:20231205T104143Z
UID:2657-1690192800-1690200000@desfamillesetdesliens.fr
SUMMARY:Atelier d'allaitement ; Réunion de la Leche League France
DESCRIPTION:Réunion maternage et allaitement \nAnimée par deux animatrices de la Leche League France \nQuand : en visio une fois par mois \nS’inscrire via ce lien  \nCet atelier a pour objectif de fournir aux mamans des informations précieuses sur l’allaitement. Il couvre des sujets tels que les débuts de l’allaitement\, les nuits du bébé allaité\, la diversification alimentaire\, la reprise du travail et la gestion des défis courants de l’allaitement. Venez partager vos expériences dans un environnement chaleureux et convivial.
URL:https://desfamillesetdesliens.fr/event/atelier-dallaitement-pour-jeunes-mamans-2/
LOCATION:Des Familles et des Liens\, 116 rue des Rabats\, Antony\, Hauts de Seine\, 92160\, France
CATEGORIES:Autour de la naissance,Test
END:VEVENT
END:VCALENDAR