BEGIN:VCALENDAR
VERSION:2.0
PRODID:-//Des familles et des liens - ECPv6.15.20//NONSGML v1.0//EN
CALSCALE:GREGORIAN
METHOD:PUBLISH
X-ORIGINAL-URL:https://desfamillesetdesliens.fr
X-WR-CALDESC:Évènements pour Des familles et des liens
REFRESH-INTERVAL;VALUE=DURATION:PT1H
X-Robots-Tag:noindex
X-PUBLISHED-TTL:PT1H
BEGIN:VTIMEZONE
TZID:Europe/Paris
BEGIN:DAYLIGHT
TZOFFSETFROM:+0100
TZOFFSETTO:+0200
TZNAME:CEST
DTSTART:20220327T010000
END:DAYLIGHT
BEGIN:STANDARD
TZOFFSETFROM:+0200
TZOFFSETTO:+0100
TZNAME:CET
DTSTART:20221030T010000
END:STANDARD
BEGIN:DAYLIGHT
TZOFFSETFROM:+0100
TZOFFSETTO:+0200
TZNAME:CEST
DTSTART:20230326T010000
END:DAYLIGHT
BEGIN:STANDARD
TZOFFSETFROM:+0200
TZOFFSETTO:+0100
TZNAME:CET
DTSTART:20231029T010000
END:STANDARD
BEGIN:DAYLIGHT
TZOFFSETFROM:+0100
TZOFFSETTO:+0200
TZNAME:CEST
DTSTART:20240331T010000
END:DAYLIGHT
BEGIN:STANDARD
TZOFFSETFROM:+0200
TZOFFSETTO:+0100
TZNAME:CET
DTSTART:20241027T010000
END:STANDARD
END:VTIMEZONE
BEGIN:VEVENT
DTSTART;TZID=Europe/Paris:20230913T100000
DTEND;TZID=Europe/Paris:20230913T113000
DTSTAMP:20260423T104214
CREATED:20230724T113405Z
LAST-MODIFIED:20230724T113405Z
UID:2668-1694599200-1694604600@desfamillesetdesliens.fr
SUMMARY:Cours de lecture pour les enfants #6
DESCRIPTION:Un cours de lecture qui encourage les enfants à découvrir le monde des livres. Chaque séance comprend des histoires captivantes\, des activités de lecture interactives et des discussions pour enrichir le vocabulaire et la compréhension de l’enfant
URL:https://desfamillesetdesliens.fr/event/cours-de-lecture-pour-les-enfants-6/
LOCATION:Des Familles et des Liens\, 116 rue des Rabats\, Antony\, Hauts de Seine\, 92160\, France
CATEGORIES:Eveil enfants,Test
END:VEVENT
END:VCALENDAR