BEGIN:VCALENDAR
VERSION:2.0
PRODID:-//Des familles et des liens - ECPv6.15.20//NONSGML v1.0//EN
CALSCALE:GREGORIAN
METHOD:PUBLISH
X-WR-CALNAME:Des familles et des liens
X-ORIGINAL-URL:https://desfamillesetdesliens.fr
X-WR-CALDESC:Évènements pour Des familles et des liens
REFRESH-INTERVAL;VALUE=DURATION:PT1H
X-Robots-Tag:noindex
X-PUBLISHED-TTL:PT1H
BEGIN:VTIMEZONE
TZID:Europe/Paris
BEGIN:DAYLIGHT
TZOFFSETFROM:+0100
TZOFFSETTO:+0200
TZNAME:CEST
DTSTART:20220327T010000
END:DAYLIGHT
BEGIN:STANDARD
TZOFFSETFROM:+0200
TZOFFSETTO:+0100
TZNAME:CET
DTSTART:20221030T010000
END:STANDARD
BEGIN:DAYLIGHT
TZOFFSETFROM:+0100
TZOFFSETTO:+0200
TZNAME:CEST
DTSTART:20230326T010000
END:DAYLIGHT
BEGIN:STANDARD
TZOFFSETFROM:+0200
TZOFFSETTO:+0100
TZNAME:CET
DTSTART:20231029T010000
END:STANDARD
BEGIN:DAYLIGHT
TZOFFSETFROM:+0100
TZOFFSETTO:+0200
TZNAME:CEST
DTSTART:20240331T010000
END:DAYLIGHT
BEGIN:STANDARD
TZOFFSETFROM:+0200
TZOFFSETTO:+0100
TZNAME:CET
DTSTART:20241027T010000
END:STANDARD
END:VTIMEZONE
BEGIN:VEVENT
DTSTART;TZID=Europe/Paris:20231018T100000
DTEND;TZID=Europe/Paris:20231018T110000
DTSTAMP:20260423T092602
CREATED:20230724T115111Z
LAST-MODIFIED:20230724T115111Z
UID:2682-1697623200-1697626800@desfamillesetdesliens.fr
SUMMARY:Atelier de soutien pour parents divorcés #11
DESCRIPTION:Le divorce peut être une période difficile pour les parents et leurs enfants. Dans cet atelier\, nous discuterons des défis du divorce et partagerons des stratégies pour aider les parents à soutenir leurs enfants pendant cette transition.
URL:https://desfamillesetdesliens.fr/event/atelier-de-soutien-pour-parents-divorces-11/
LOCATION:Des Familles et des Liens\, 116 rue des Rabats\, Antony\, Hauts de Seine\, 92160\, France
CATEGORIES:Ressources pour les parents, les couples, temps pour soi.,Test
END:VEVENT
END:VCALENDAR