BEGIN:VCALENDAR
VERSION:2.0
PRODID:-//Des familles et des liens - ECPv6.15.20//NONSGML v1.0//EN
CALSCALE:GREGORIAN
METHOD:PUBLISH
X-ORIGINAL-URL:https://desfamillesetdesliens.fr
X-WR-CALDESC:Évènements pour Des familles et des liens
REFRESH-INTERVAL;VALUE=DURATION:PT1H
X-Robots-Tag:noindex
X-PUBLISHED-TTL:PT1H
BEGIN:VTIMEZONE
TZID:Europe/Paris
BEGIN:DAYLIGHT
TZOFFSETFROM:+0100
TZOFFSETTO:+0200
TZNAME:CEST
DTSTART:20220327T010000
END:DAYLIGHT
BEGIN:STANDARD
TZOFFSETFROM:+0200
TZOFFSETTO:+0100
TZNAME:CET
DTSTART:20221030T010000
END:STANDARD
BEGIN:DAYLIGHT
TZOFFSETFROM:+0100
TZOFFSETTO:+0200
TZNAME:CEST
DTSTART:20230326T010000
END:DAYLIGHT
BEGIN:STANDARD
TZOFFSETFROM:+0200
TZOFFSETTO:+0100
TZNAME:CET
DTSTART:20231029T010000
END:STANDARD
BEGIN:DAYLIGHT
TZOFFSETFROM:+0100
TZOFFSETTO:+0200
TZNAME:CEST
DTSTART:20240331T010000
END:DAYLIGHT
BEGIN:STANDARD
TZOFFSETFROM:+0200
TZOFFSETTO:+0100
TZNAME:CET
DTSTART:20241027T010000
END:STANDARD
END:VTIMEZONE
BEGIN:VEVENT
DTSTART;TZID=Europe/Paris:20231207T124500
DTEND;TZID=Europe/Paris:20231207T153000
DTSTAMP:20260423T064654
CREATED:20230724T112605Z
LAST-MODIFIED:20231204T150005Z
UID:2662-1701953100-1701963000@desfamillesetdesliens.fr
SUMMARY:Porter son bébé\, Cycle d'ateliers de portage
DESCRIPTION:Cycle d’ateliers de portage\nDestiné aux futurs parents\, et aux parents de nourrisson et de bébés\, jeunes enfants\, ce cycle d’atelier de portage offre des informations précieuses sur les divers aspects du portage\, y compris le portage physiologique à bras\, les écharpes de portage et les différents moyen de portage ventre\, hanche ou dos.  Il fournit également des ressources utiles pour découvrir comment communiquer avec son bébé par le portage et relever certains défis de la parentalité. Rejoignez-nous pour ce cycle de portage éducatif et interactif et commencez votre vie dans le monde du portage avec confiance et connaissance. \nCycle d’ateliers de portage  \nDécouverte – Bébés – Bébés curieux – Bambins – portage pour enfants à besoins particuliers  \nMARDI 12h45 ou MARDI 14h30 \nATTENTION JEUDI  7 décembre 12h45 : Atelier 1 pour tous \nATTENTION JEUDI  7 décembre 14h30  : Atelier  2 portage pour nourrissons de 0-3 mois \nMardi 12 décembre 12h45 : Atelier 1 \nMardi 12 décembre 14h30 : Atelier 3 portage Enfant de 4 mois et plus \nMardi 19 décembre 12H45 : Atelier 1 \nMardi 19 décembre 14h30 :  Atelier 2 portage nourrissons 0-3 mois
URL:https://desfamillesetdesliens.fr/event/seminaire-sur-la-preparation-a-la-parentalite-3/
LOCATION:Des Familles et des Liens\, 116 rue des Rabats\, Antony\, Hauts de Seine\, 92160\, France
CATEGORIES:Autour de la naissance,Test
ATTACH;FMTTYPE=image/jpeg:https://desfamillesetdesliens.fr/wp-content/uploads/2023/07/juliane-liebermann-O-RKu3Aqnsw-unsplash.jpg
END:VEVENT
END:VCALENDAR